BEGIN:VCALENDAR
VERSION:2.0
PRODID:icalendar-ruby
CALSCALE:GREGORIAN
BEGIN:VEVENT
DTSTAMP:20210119T121320Z
UID:53f6129a-18f0-4c87-b36a-a9464279664c
DTSTART;VALUE=DATE:20191003
DESCRIPTION:Property ID# 461433\, Locatoin: 247 Cameron Road\, Tauranga\, T
 ime: 1:00PM
SUMMARY:Auction for 
END:VEVENT
END:VCALENDAR
