BEGIN:VCALENDAR
VERSION:2.0
PRODID:icalendar-ruby
CALSCALE:GREGORIAN
BEGIN:VEVENT
DTSTAMP:20210119T121323Z
UID:83d91547-9dd1-436e-8d3c-7b62ee63e0cc
DTSTART;VALUE=DATE:20201126
DESCRIPTION:Property ID# 494417\, Locatoin: Harcourts Auction Room\, 1 Thir
 d Avenue\, Tauranga\, Time: 1:00PM
SUMMARY:Auction for 
END:VEVENT
END:VCALENDAR
