BEGIN:VCALENDAR
VERSION:2.0
PRODID:icalendar-ruby
CALSCALE:GREGORIAN
BEGIN:VEVENT
DTSTAMP:20210119T121259Z
UID:e3a8a956-9bb0-44d5-a0c1-208ecc40e2cf
DTSTART;VALUE=DATE:20201209
DESCRIPTION:Property ID# 495063\, Locatoin: Bayleys Auction Rooms \, Time: 
 1:00PM
SUMMARY:Auction for 
END:VEVENT
END:VCALENDAR
