BEGIN:VCALENDAR
VERSION:2.0
PRODID:icalendar-ruby
CALSCALE:GREGORIAN
BEGIN:VEVENT
DTSTAMP:20210119T121254Z
UID:e1cdd3dc-9539-4e2a-9e8f-087f3fd58bf5
DTSTART;VALUE=DATE:20210218
DESCRIPTION:Property ID# 497489\, Time: 4:00PM
SUMMARY:Auction for 215 Ohiwa Beach Road
END:VEVENT
END:VCALENDAR
