BEGIN:VCALENDAR
VERSION:2.0
PRODID:icalendar-ruby
CALSCALE:GREGORIAN
BEGIN:VEVENT
DTSTAMP:20210119T121000Z
UID:e99c4779-b2a8-4a4e-bf79-ba82f1724c18
DTSTART;VALUE=DATE:20210127
DESCRIPTION:Property ID# 497813\, Locatoin: Tremains Tauranga 409 Cameron R
 d\, Tauranga\, Time: 1:00PM
SUMMARY:Auction for 149 Wilson Road
END:VEVENT
END:VCALENDAR
