BEGIN:VCALENDAR
VERSION:2.0
PRODID:icalendar-ruby
CALSCALE:GREGORIAN
BEGIN:VEVENT
DTSTAMP:20210119T121249Z
UID:b9acb779-72ae-498c-96a9-a73b76a4c869
DTSTART;VALUE=DATE:20210127
DESCRIPTION:Property ID# 498477\, Locatoin: In rooms at Tremains Tauranga (
 unless sold prior)\, Time: 1:00PM
SUMMARY:Auction for 202 Maungatapu Road
END:VEVENT
END:VCALENDAR
