BEGIN:VCALENDAR
VERSION:2.0
PRODID:icalendar-ruby
CALSCALE:GREGORIAN
BEGIN:VEVENT
DTSTAMP:20210119T121311Z
UID:6088f9bb-6f06-4cbb-9d5e-1e4b49b58062
DTSTART;TZID=Pacific/Auckland:20210117T120000
DTEND;TZID=Pacific/Auckland:20210117T124500
DESCRIPTION:Property ID# 499523
SUMMARY:Openhome for 15 Penelope Place
END:VEVENT
END:VCALENDAR
